BEGIN:VCALENDAR
VERSION:2.0
PRODID:-//Urbanonetwork//NONSGML v1.0//EN
METHOD:PUBLISH
BEGIN:VEVENT
UID:urbanonetwork-event-2168
DTSTAMP:20220728T150000Z
ORGANIZER;CN=Harmeet Singh:MAILTO:harmeet@axies.digital
STATUS:CONFIRMED
DTSTART:20220728T150000Z
DTEND:20220728T170000Z
LAST-MODIFIED:20220620T151042Z
LOCATION:Urbano Member Online Event, Urbano Member Online Event, Zoom webinar, Zoom webin
SUMMARY:Target Marketing - For Hunters
URL:https://www.urbanonetwork.co.uk/london-networking-events/2168/2022/07/28/target-marketing-for-hunters
DESCRIPTION:Quality supply chains are essential for any business.
END:VEVENT
END:VCALENDAR