BEGIN:VCALENDAR
VERSION:2.0
PRODID:-//Urbanonetwork//NONSGML v1.0//EN
METHOD:PUBLISH
BEGIN:VEVENT
UID:urbanonetwork-event-2178
DTSTAMP:20220907T130000Z
ORGANIZER;CN=Elle Moss:MAILTO:elle@drewlondon.co.uk
STATUS:CONFIRMED
DTSTART:20220907T130000Z
DTEND:20220907T150000Z
LAST-MODIFIED:20220809T082713Z
LOCATION:The Shard, TOG The Shard, Floor 24/25, 32 London Bridge Street, London, London, SE1 9SG
SUMMARY:The Magic Circle – Longevity Round Table
URL:https://www.urbanonetwork.co.uk/london-networking-events/2178/2022/09/07/the-magic-circle-longevity-round-table
DESCRIPTION:The Longevity industry is rapidly becoming one of the leading industries globally and outnumbers other sectors in size and market capitalisation.
END:VEVENT
END:VCALENDAR