BEGIN:VCALENDAR
VERSION:2.0
PRODID:-//Urbanonetwork//NONSGML v1.0//EN
METHOD:PUBLISH
BEGIN:VEVENT
UID:urbanonetwork-event-2197
DTSTAMP:20221004T150000Z
ORGANIZER;CN=Harmeet Singh:MAILTO:harmeet@axies.digital
STATUS:CONFIRMED
DTSTART:20221004T150000Z
DTEND:20221004T170000Z
LAST-MODIFIED:20220912T131640Z
LOCATION:Zoom webinar, Zoom webinar, Zoom, Zoom
SUMMARY:Google Ads PPC Workshop (Online)
URL:https://www.urbanonetwork.co.uk/london-networking-events/2197/2022/10/04/google-ads-ppc-workshop-online
DESCRIPTION:
END:VEVENT
END:VCALENDAR