BEGIN:VCALENDAR
VERSION:2.0
PRODID:-//Urbanonetwork//NONSGML v1.0//EN
METHOD:PUBLISH
BEGIN:VEVENT
UID:urbanonetwork-event-2208
DTSTAMP:20221029T180000Z
ORGANIZER;CN=Lola Bushby:MAILTO:lola@wearefairgame.com
STATUS:CONFIRMED
DTSTART:20221029T180000Z
DTEND:20221029T200000Z
LAST-MODIFIED:20221017T114738Z
LOCATION:Fairgame, One New Change, London, EC4M  9AF
SUMMARY:Halloween At Fairgame
URL:https://www.urbanonetwork.co.uk/london-networking-events/2208/2022/10/29/halloween-at-fairgame
DESCRIPTION:Fairgame are throwing our FIRST EVER HALLOWEEN PARTY and we want to make sure everyone at Urbano doesn&#039;t miss out.&amp;nbsp;
END:VEVENT
END:VCALENDAR