BEGIN:VCALENDAR
VERSION:2.0
PRODID:-//Urbanonetwork//NONSGML v1.0//EN
METHOD:PUBLISH
BEGIN:VEVENT
UID:urbanonetwork-event-2228
DTSTAMP:20230131T123000Z
ORGANIZER;CN=Rebecca Lovelace:MAILTO:rebecca.lovelace@buildingpeople.org.uk
STATUS:CONFIRMED
DTSTART:20230131T123000Z
DTEND:20230131T143000Z
LAST-MODIFIED:20230105T122223Z
LOCATION:Building People, 9b Hurst Road, Milford on Sea, SO41 0PY
SUMMARY:Answering Your Organisation’s Pain Points: EDI 101
URL:https://www.urbanonetwork.co.uk/london-networking-events/2228/2023/01/31/answering-your-organisation-s-pain-points-edi-101
DESCRIPTION:The first event from Building People in its series of Equity, Diversity and Inclusion briefings for the built environment sector.
END:VEVENT
END:VCALENDAR