BEGIN:VCALENDAR
VERSION:2.0
PRODID:-//Urbanonetwork//NONSGML v1.0//EN
METHOD:PUBLISH
BEGIN:VEVENT
UID:urbanonetwork-event-223
DTSTAMP:20130226T180000Z
ORGANIZER;CN=Rebecca Buckley:MAILTO:RBuckley@kingstonsmith.co.uk
STATUS:CONFIRMED
DTSTART:20130226T180000Z
DTEND:20130226T200000Z
LAST-MODIFIED:20161224T191404Z
LOCATION:The Green, 29 Clerkenwell Green, London, EC1R 0DU
SUMMARY:East Central Drinks
URL:https://www.urbanonetwork.co.uk/london-networking-events/223/2013/02/26/east-central-drinks
DESCRIPTION:EAST CENTRAL DRINKS
END:VEVENT
END:VCALENDAR