BEGIN:VCALENDAR
VERSION:2.0
PRODID:-//Urbanonetwork//NONSGML v1.0//EN
METHOD:PUBLISH
BEGIN:VEVENT
UID:urbanonetwork-event-2253
DTSTAMP:20230331T100000Z
ORGANIZER;CN=David Pritchard:MAILTO:david.pritchard@sandler.com
STATUS:CONFIRMED
DTSTART:20230331T100000Z
DTEND:20230331T120000Z
LAST-MODIFIED:20230313T160522Z
LOCATION:Zoom, online, London, EC1A 9ET
SUMMARY:Spring Sales Growth Workshop
URL:https://www.urbanonetwork.co.uk/london-networking-events/2253/2023/03/31/spring-sales-growth-workshop
DESCRIPTION:These Sandler workshops are always very popular.&amp;nbsp; You will learn strategies you can adopt immediately to develop more resilient and effective sales processes and sales techniques
END:VEVENT
END:VCALENDAR