BEGIN:VCALENDAR
VERSION:2.0
PRODID:-//Urbanonetwork//NONSGML v1.0//EN
METHOD:PUBLISH
BEGIN:VEVENT
UID:urbanonetwork-event-2255
DTSTAMP:20230905T110000Z
ORGANIZER;CN=Christopher Scriven:MAILTO:chris@thebowlsclubldn.com
STATUS:CONFIRMED
DTSTART:20230905T110000Z
DTEND:20230905T130000Z
LAST-MODIFIED:20230815T091544Z
LOCATION:The Bowls Club LDN, Finsbury Square Bowling Green, London, EC2A 1RR
SUMMARY:Summer parties now booking at The Bowls Club LDN
URL:https://www.urbanonetwork.co.uk/london-networking-events/2255/2023/09/05/summer-parties-now-booking-at-the-bowls-club-ldn
DESCRIPTION:
END:VEVENT
END:VCALENDAR