BEGIN:VCALENDAR
VERSION:2.0
PRODID:-//Urbanonetwork//NONSGML v1.0//EN
METHOD:PUBLISH
BEGIN:VEVENT
UID:urbanonetwork-event-2261
DTSTAMP:20230426T073000Z
ORGANIZER;CN=Blaithin Carroll:MAILTO:BCarroll@trowers.com
STATUS:CONFIRMED
DTSTART:20230426T073000Z
DTEND:20230426T093000Z
LAST-MODIFIED:20230411T092228Z
LOCATION:Trowers &amp; Hamlins LLP, 3 Bunhill Row, London, EC1Y 8YZ
SUMMARY:Private residential development briefing: Taskforce on nature-related financial disclosures
URL:https://www.urbanonetwork.co.uk/london-networking-events/2261/2023/04/26/private-residential-development-briefing-taskforce-on-nature-related-financial-disclosures
DESCRIPTION:Trowers &amp;amp; Hamlins are delighted to invite you to our latest seminar in our private residential development briefing sessions.&amp;nbsp;
END:VEVENT
END:VCALENDAR