BEGIN:VCALENDAR
VERSION:2.0
PRODID:-//Urbanonetwork//NONSGML v1.0//EN
METHOD:PUBLISH
BEGIN:VEVENT
UID:urbanonetwork-event-2263
DTSTAMP:20230511T130000Z
ORGANIZER;CN=Blaithin Carroll:MAILTO:BCarroll@trowers.com
STATUS:CONFIRMED
DTSTART:20230511T130000Z
DTEND:20230511T150000Z
LAST-MODIFIED:20230418T093732Z
LOCATION:Trowers &amp; Hamlins LLP, 3 Bunhill Row, London, EC1Y 8YZ
SUMMARY:Clause and Effect: a Litigator&#039;s Guide to Commercial Contracts - webinar series
URL:https://www.urbanonetwork.co.uk/london-networking-events/2263/2023/05/11/clause-and-effect-a-litigator-s-guide-to-commercial-contracts-webinar-series
DESCRIPTION:The commercial litigation team at Trowers &amp;amp; Hamlins invites you to a three-part webinar series where we discuss contractual risks and how to avoid them.
END:VEVENT
END:VCALENDAR