BEGIN:VCALENDAR
VERSION:2.0
PRODID:-//Urbanonetwork//NONSGML v1.0//EN
METHOD:PUBLISH
BEGIN:VEVENT
UID:urbanonetwork-event-2270
DTSTAMP:20230511T100000Z
ORGANIZER;CN=Blaithin Carroll:MAILTO:BCarroll@trowers.com
STATUS:CONFIRMED
DTSTART:20230511T100000Z
DTEND:20230511T120000Z
LAST-MODIFIED:20230510T104117Z
LOCATION:Trowers &amp; Hamlins LLP, 3 Bunhill Row, London, EC1Y 8YZ
SUMMARY:Future of Agile Working - webinar
URL:https://www.urbanonetwork.co.uk/london-networking-events/2270/2023/05/11/future-of-agile-working-webinar
DESCRIPTION:Join us at Trowers &amp;amp; Hamlins on 11th May at 11am for the latest webinar in our agility series.
END:VEVENT
END:VCALENDAR