BEGIN:VCALENDAR
VERSION:2.0
PRODID:-//Urbanonetwork//NONSGML v1.0//EN
METHOD:PUBLISH
BEGIN:VEVENT
UID:urbanonetwork-event-2276
DTSTAMP:20230615T093000Z
ORGANIZER;CN=Geoff Wilkinson:MAILTO:Geoff@thebuildinginspector.org
STATUS:CONFIRMED
DTSTART:20230615T093000Z
DTEND:20230615T113000Z
LAST-MODIFIED:20230602T102557Z
LOCATION:The Hive at Edenwood, Old Chatham Road, Chatham, ME20 7EZ
SUMMARY:Client Focus Day - Building Regs
URL:https://www.urbanonetwork.co.uk/london-networking-events/2276/2023/06/15/client-focus-day-building-regs
DESCRIPTION:CPD event covering Fire Safety, Building Control FAQ&#039;s - plus time for networking
END:VEVENT
END:VCALENDAR