BEGIN:VCALENDAR
VERSION:2.0
PRODID:-//Urbanonetwork//NONSGML v1.0//EN
METHOD:PUBLISH
BEGIN:VEVENT
UID:urbanonetwork-event-2280
DTSTAMP:20230704T103000Z
ORGANIZER;CN=Emma Burrows:MAILTO:eburrows@trowers.com
STATUS:CONFIRMED
DTSTART:20230704T103000Z
DTEND:20230704T123000Z
LAST-MODIFIED:20230613T082358Z
LOCATION:Trowers &amp; Hamlins LLP, 3 Bunhill Row, London, EC1Y 8YZ
SUMMARY:Inclusivity webinar series - managing the changing landscape of gender identity and trans-rights
URL:https://www.urbanonetwork.co.uk/london-networking-events/2280/2023/07/04/inclusivity-webinar-series-managing-the-changing-landscape-of-gender-identity-and-trans-rights
DESCRIPTION:In the drive to attract and retain the best talent, the benefits of building an inclusive, authentic and engaging workplace are clear.&amp;nbsp;&amp;nbsp;
END:VEVENT
END:VCALENDAR