BEGIN:VCALENDAR
VERSION:2.0
PRODID:-//Urbanonetwork//NONSGML v1.0//EN
METHOD:PUBLISH
BEGIN:VEVENT
UID:urbanonetwork-event-2291
DTSTAMP:20230816T090000Z
ORGANIZER;CN=Blaithin Carroll:MAILTO:BCarroll@trowers.com
STATUS:CONFIRMED
DTSTART:20230816T090000Z
DTEND:20230816T110000Z
LAST-MODIFIED:20230722T125331Z
LOCATION:Trowers &amp; Hamlins LLP, 3 Bunhill Row, London, EC1Y 8YZ
SUMMARY:Registered Providers of social housing - legal training
URL:https://www.urbanonetwork.co.uk/london-networking-events/2291/2023/08/16/registered-providers-of-social-housing-legal-training
DESCRIPTION:Consumer regulation is set to undertake a dramatic change this year and it is vitally important for RPs to be aware of this.
END:VEVENT
END:VCALENDAR