BEGIN:VCALENDAR
VERSION:2.0
PRODID:-//Urbanonetwork//NONSGML v1.0//EN
METHOD:PUBLISH
BEGIN:VEVENT
UID:urbanonetwork-event-2321
DTSTAMP:20231208T123000Z
ORGANIZER;CN=Geoff Wilkinson:MAILTO:Geoff@thebuildinginspector.org
STATUS:CONFIRMED
DTSTART:20231208T123000Z
DTEND:20231208T143000Z
LAST-MODIFIED:20231122T115635Z
LOCATION:Wilkinson Construction Consultants, 52 Grosvenor Gardens, Westminster, SW1W 0AU
SUMMARY:Building Safety Act Webinar
URL:https://www.urbanonetwork.co.uk/london-networking-events/2321/2023/12/08/building-safety-act-webinar
DESCRIPTION:Wilkinson&amp;nbsp;are your award-winning Building Control Approver. We want to help make the process of Building Regulation compliance as smooth and hassle-free as possible. Leave the problem-solving and expertise to us!
END:VEVENT
END:VCALENDAR