BEGIN:VCALENDAR
VERSION:2.0
PRODID:-//Urbanonetwork//NONSGML v1.0//EN
METHOD:PUBLISH
BEGIN:VEVENT
UID:urbanonetwork-event-2327
DTSTAMP:20240208T163000Z
ORGANIZER;CN=Blaithin Carroll:MAILTO:BCarroll@trowers.com
STATUS:CONFIRMED
DTSTART:20240208T163000Z
DTEND:20240208T183000Z
LAST-MODIFIED:20240116T085335Z
LOCATION:Trowers &amp; Hamlins LLP, 3 Bunhill Row, London, EC1Y 8YZ
SUMMARY:Construction Law In-Person Seminar: Contract negotiation and alternative dispute resolution
URL:https://www.urbanonetwork.co.uk/london-networking-events/2327/2024/02/08/construction-law-seminar-contract-negotiation
DESCRIPTION:
END:VEVENT
END:VCALENDAR