BEGIN:VCALENDAR
VERSION:2.0
PRODID:-//Urbanonetwork//NONSGML v1.0//EN
METHOD:PUBLISH
BEGIN:VEVENT
UID:urbanonetwork-event-2362
DTSTAMP:20240911T110000Z
ORGANIZER;CN=Mark Herring:MAILTO:mark@urbanonetwork.co.uk
STATUS:CONFIRMED
DTSTART:20240911T110000Z
DTEND:20240911T130000Z
LAST-MODIFIED:20240911T135405Z
LOCATION:Cafe du Marche, 22 Charterhouse Square, London, EC1M 6DX
SUMMARY:Urbano Top Table Networking Lunch in Clerkenwell
URL:https://www.urbanonetwork.co.uk/london-networking-events/2362/2024/09/11/urbano-top-table-networking-lunch-in-clerkenwell
DESCRIPTION:Urbano September Top Table Networking Lunch at Cafe Du Marche in Clerkenwell.
END:VEVENT
END:VCALENDAR