BEGIN:VCALENDAR
VERSION:2.0
PRODID:-//Urbanonetwork//NONSGML v1.0//EN
METHOD:PUBLISH
BEGIN:VEVENT
UID:urbanonetwork-event-2364
DTSTAMP:20240724T153000Z
ORGANIZER;CN=Blaithin Carroll:MAILTO:BCarroll@trowers.com
STATUS:CONFIRMED
DTSTART:20240724T153000Z
DTEND:20240724T173000Z
LAST-MODIFIED:20240625T081005Z
LOCATION:Trowers &amp; Hamlins LLP, 3 Bunhill Row, London, EC1Y 8YZ
SUMMARY:Construction project payments - contract negotiation and alternative dispute resolution
URL:https://www.urbanonetwork.co.uk/london-networking-events/2364/2024/07/24/construction-project-payments-contract-negotiation-and-alternative-dispute-resolution
DESCRIPTION:A seminar series exploring recent developments in construction law where we offer practical tips and a guide to best practice on how to protect your commercial position and help minimise and resolve disputes on construction, engineering and infrastructur
END:VEVENT
END:VCALENDAR