BEGIN:VCALENDAR
VERSION:2.0
PRODID:-//Urbanonetwork//NONSGML v1.0//EN
METHOD:PUBLISH
BEGIN:VEVENT
UID:urbanonetwork-event-2365
DTSTAMP:20240730T073000Z
ORGANIZER;CN=Blaithin Carroll:MAILTO:BCarroll@trowers.com
STATUS:CONFIRMED
DTSTART:20240730T073000Z
DTEND:20240730T093000Z
LAST-MODIFIED:20240702T082807Z
LOCATION:Trowers &amp; Hamlins LLP, 3 Bunhill Row, London, EC1Y 8YZ
SUMMARY:Construction briefing and networking breakfast on JCT suite of building contracts
URL:https://www.urbanonetwork.co.uk/london-networking-events/2365/2024/07/30/construction-briefing-and-networking-breakfast-on-jct-suite-of-building-contracts
DESCRIPTION:The Projects and Construction team at Trowers &amp;amp; Hamlins is delighted to invite you to the next seminar in its series of breakfast briefings on core construction law issues and hot topics
END:VEVENT
END:VCALENDAR