BEGIN:VCALENDAR
VERSION:2.0
PRODID:-//Urbanonetwork//NONSGML v1.0//EN
METHOD:PUBLISH
BEGIN:VEVENT
UID:urbanonetwork-event-2382
DTSTAMP:20241107T120000Z
ORGANIZER;CN=Abby Winkworth:MAILTO:AWinkworth@doyleclayton.co.uk
STATUS:CONFIRMED
DTSTART:20241107T120000Z
DTEND:20241107T140000Z
LAST-MODIFIED:20241101T103413Z
LOCATION:Doyle Clayton, One Crown Court, London, EC2V 6LR
SUMMARY:Employee Ownership Trusts and the Autumn Budget - webinar
URL:https://www.urbanonetwork.co.uk/london-networking-events/2382/2024/11/07/employee-ownership-trusts-and-the-autumn-budget-webinar
DESCRIPTION:The Autumn budget will be the first from the new Labour Government, with potential changes impacting business owners being implemented.
END:VEVENT
END:VCALENDAR