BEGIN:VCALENDAR
VERSION:2.0
PRODID:-//Urbanonetwork//NONSGML v1.0//EN
METHOD:PUBLISH
BEGIN:VEVENT
UID:urbanonetwork-event-2392
DTSTAMP:20250123T100000Z
ORGANIZER;CN=Blaithin Carroll:MAILTO:BCarroll@trowers.com
STATUS:CONFIRMED
DTSTART:20250123T100000Z
DTEND:20250123T120000Z
LAST-MODIFIED:20241210T101006Z
LOCATION:Trowers &amp; Hamlins LLP, 3 Bunhill Row, London, EC1Y 8YZ
SUMMARY:CyberSecure 360 - retail and hospitality webinar
URL:https://www.urbanonetwork.co.uk/london-networking-events/2392/2025/01/23/cybersecure-360-retail-and-hospitality-webinar
DESCRIPTION:In today&amp;rsquo;s digital landscape, cybersecurity is more critical than ever. Trowers &amp;amp; Hamlins are excited to introduce CyberSecure 360, our comprehensive cyber risk management service.&amp;nbsp;
END:VEVENT
END:VCALENDAR