BEGIN:VCALENDAR
VERSION:2.0
PRODID:-//Urbanonetwork//NONSGML v1.0//EN
METHOD:PUBLISH
BEGIN:VEVENT
UID:urbanonetwork-event-2420
DTSTAMP:20250612T080000Z
ORGANIZER;CN=Mark Herring:MAILTO:mark@urbanonetwork.co.uk
STATUS:CONFIRMED
DTSTART:20250612T080000Z
DTEND:20250612T100000Z
LAST-MODIFIED:20250613T081411Z
LOCATION:Greenwoods Legal LLP, Queens House, London, WC2A 3LJ
SUMMARY:Urbano speaker networking breakfast - City of London
URL:https://www.urbanonetwork.co.uk/london-networking-events/2420/2025/06/12/urbano-speaker-networking-breakfast-city-of-london
DESCRIPTION:Urbano networking breakfast in conversation with Florence King, Lady Mayoress of The City of London.. CLOSED TO BOOKINGS.
END:VEVENT
END:VCALENDAR