BEGIN:VCALENDAR
VERSION:2.0
PRODID:-//Urbanonetwork//NONSGML v1.0//EN
METHOD:PUBLISH
BEGIN:VEVENT
UID:urbanonetwork-event-2434
DTSTAMP:20251009T080000Z
ORGANIZER;CN=Mark Herring:MAILTO:mark@urbanonetwork.co.uk
STATUS:CONFIRMED
DTSTART:20251009T080000Z
DTEND:20251009T100000Z
LAST-MODIFIED:20251009T105636Z
LOCATION:Hotel Indigo London Clerkenwell, 2 Clerkenwell Road, London, EC1M 5PQ
SUMMARY:Urbano Networking Breakfast at Hotel Indigo Clerkenwell
URL:https://www.urbanonetwork.co.uk/london-networking-events/2434/2025/10/09/urbano-networking-breakfast-at-hotel-indigo-clerkenwell
DESCRIPTION:Urbano Networking Breakfast at Hotel Indigo Clerkenwell - open to members and non-members.
END:VEVENT
END:VCALENDAR