BEGIN:VCALENDAR
VERSION:2.0
PRODID:-//Urbanonetwork//NONSGML v1.0//EN
METHOD:PUBLISH
BEGIN:VEVENT
UID:urbanonetwork-event-2443
DTSTAMP:20251023T070000Z
ORGANIZER;CN=Blaithin Carroll:MAILTO:BCarroll@trowers.com
STATUS:CONFIRMED
DTSTART:20251023T070000Z
DTEND:20251023T090000Z
LAST-MODIFIED:20251020T182553Z
LOCATION:Trowers &amp; Hamlins LLP, 3 Bunhill Row, London, EC1Y 8YZ
SUMMARY:Demystifying Employment Tribunals for HR professionals
URL:https://www.urbanonetwork.co.uk/london-networking-events/2443/2025/10/23/demystifying-employment-tribunals-for-hr-professionals
DESCRIPTION:
END:VEVENT
END:VCALENDAR