BEGIN:VCALENDAR
VERSION:2.0
PRODID:-//Urbanonetwork//NONSGML v1.0//EN
METHOD:PUBLISH
BEGIN:VEVENT
UID:urbanonetwork-event-2453
DTSTAMP:20251113T083000Z
ORGANIZER;CN=Nicholas Barrows:MAILTO:nbarrows@trowers.com
STATUS:CONFIRMED
DTSTART:20251113T083000Z
DTEND:20251113T103000Z
LAST-MODIFIED:20251020T183446Z
LOCATION:Trowers &amp; Hamlins LLP, 3 Bunhill Row, London, EC1Y 8YZ
SUMMARY:Construction law - performance bonds &amp; guarantees
URL:https://www.urbanonetwork.co.uk/london-networking-events/2453/2025/11/13/construction-law-performance-bonds-guarantees
DESCRIPTION:Securing the Deal: Performance Bonds and PCGs made simple
END:VEVENT
END:VCALENDAR