BEGIN:VCALENDAR
VERSION:2.0
PRODID:-//Urbanonetwork//NONSGML v1.0//EN
METHOD:PUBLISH
BEGIN:VEVENT
UID:urbanonetwork-event-2472
DTSTAMP:20260127T170000Z
ORGANIZER;CN=Chris Paul:MAILTO:cpaul@trowers.com
STATUS:CONFIRMED
DTSTART:20260127T170000Z
DTEND:20260127T190000Z
LAST-MODIFIED:20260113T104940Z
LOCATION:Trowers &amp; Hamlins LLP, 3 Bunhill Row, London, EC1Y 8YZ
SUMMARY:Heat network regulation - evening drinks reception
URL:https://www.urbanonetwork.co.uk/london-networking-events/2472/2026/01/27/heat-network-regulation-evening-drinks-reception
DESCRIPTION:Join Trowers &amp;amp; Hamlins, lead by our Partner Chris Paul, Head of Energy &amp;amp; Sustainability, for an drinks reception evening with contacts from across the sector as we mark the introduction of heat network regulation.&amp;nbsp;
END:VEVENT
END:VCALENDAR