BEGIN:VCALENDAR
VERSION:2.0
PRODID:-//Urbanonetwork//NONSGML v1.0//EN
METHOD:PUBLISH
BEGIN:VEVENT
UID:urbanonetwork-event-249
DTSTAMP:20140315T180000Z
ORGANIZER;CN=Kathryn Rack:MAILTO:kathryn.rack@aveqia.co.uk
STATUS:CONFIRMED
DTSTART:20140315T180000Z
DTEND:20140315T200000Z
LAST-MODIFIED:20161224T191404Z
LOCATION:AVEQIA, 2 St Bride Street, London, EC4A 4AD
SUMMARY:Inspirational Cooking: Connect through Gastronomy
URL:https://www.urbanonetwork.co.uk/london-networking-events/249/2014/03/15/inspirational-cooking-connect-through-gastronomy
DESCRIPTION:Building relationships is at the heart of AVEQIA&#039;s philosophy and our INSPIRATIONAL COOKING&amp;nbsp;&amp;nbsp;experiences have been created with this exact ethos.
END:VEVENT
END:VCALENDAR