BEGIN:VCALENDAR
VERSION:2.0
PRODID:-//Urbanonetwork//NONSGML v1.0//EN
METHOD:PUBLISH
BEGIN:VEVENT
UID:urbanonetwork-event-2496
DTSTAMP:20260513T083000Z
ORGANIZER;CN=Emma O&#039;Connor:MAILTO:eoconnor@doyleclayton.co.uk
STATUS:CONFIRMED
DTSTART:20260513T083000Z
DTEND:20260513T103000Z
LAST-MODIFIED:20260421T095734Z
LOCATION:Doyle Clayton, One Crown Court, London, EC2V 6LR
SUMMARY:HR Masterclass
URL:https://www.urbanonetwork.co.uk/london-networking-events/2496/2026/05/13/hr-masterclass
DESCRIPTION:
END:VEVENT
END:VCALENDAR