BEGIN:VCALENDAR
VERSION:2.0
PRODID:-//Urbanonetwork//NONSGML v1.0//EN
METHOD:PUBLISH
BEGIN:VEVENT
UID:urbanonetwork-event-2497
DTSTAMP:20260507T163000Z
ORGANIZER;CN=Chelsea Mace:MAILTO:chelsea.mace@clarkewillmott.com
STATUS:CONFIRMED
DTSTART:20260507T163000Z
DTEND:20260507T183000Z
LAST-MODIFIED:20260421T095500Z
LOCATION:Clarke Willmott Cardiff, 2nd Floor, 2 Callaghan Square, Cardiff, CF10 5BT
SUMMARY:Networking evening for young professionals in Cardiff
URL:https://www.urbanonetwork.co.uk/london-networking-events/2497/2026/05/07/networking-evening-for-young-professionals-in-cardiff
DESCRIPTION:
END:VEVENT
END:VCALENDAR