BEGIN:VCALENDAR
VERSION:2.0
PRODID:-//Urbanonetwork//NONSGML v1.0//EN
METHOD:PUBLISH
BEGIN:VEVENT
UID:urbanonetwork-event-264
DTSTAMP:20130612T070000Z
ORGANIZER;CN=Mark Herring:MAILTO:mark@urbanonetwork.co.uk
STATUS:CONFIRMED
DTSTART:20130612T070000Z
DTEND:20130612T090000Z
LAST-MODIFIED:20161224T191404Z
LOCATION:Hard Rock Cafe, 150 Old Park Lane, London, W1K 1QZ
SUMMARY:Urbano business networking breakfast event - featuring Barry Hearn
URL:https://www.urbanonetwork.co.uk/london-networking-events/264/2013/06/12/urbano-business-networking-breakfast-event-featuring-barry-hearn
DESCRIPTION:Urbano Business networking breakfast event featuring sports supremo and Leyton Orient FC Chairman, Barry Hearn, on Wednesday June 12th at 8am.
END:VEVENT
END:VCALENDAR