BEGIN:VCALENDAR
VERSION:2.0
PRODID:-//Urbanonetwork//NONSGML v1.0//EN
METHOD:PUBLISH
BEGIN:VEVENT
UID:urbanonetwork-event-284
DTSTAMP:20130711T160000Z
ORGANIZER;CN=Sean Collum:MAILTO:scollum@ks.co.uk
STATUS:CONFIRMED
DTSTART:20130711T160000Z
DTEND:20130711T180000Z
LAST-MODIFIED:20161224T191404Z
LOCATION:Kingston Smith LLP, Devonshire House, London, EC1M 7AD
SUMMARY:From challenges to opportunities
URL:https://www.urbanonetwork.co.uk/london-networking-events/284/2013/07/11/from-challenges-to-opportunities
DESCRIPTION:How do you step back, stand out and move forward as an entrepreneur / business in today&amp;rsquo;s fast-paced, challenging climate of heightened competition, email overload, uncertainty &amp;ndash; and yet rich with possibility? Join leading life &amp;amp; business 
END:VEVENT
END:VCALENDAR