BEGIN:VCALENDAR
VERSION:2.0
PRODID:-//Urbanonetwork//NONSGML v1.0//EN
METHOD:PUBLISH
BEGIN:VEVENT
UID:urbanonetwork-event-302
DTSTAMP:20130923T064500Z
ORGANIZER;CN=Kirstie Hegarty:MAILTO:khegarty@fitzandlaw.com
STATUS:CONFIRMED
DTSTART:20130923T064500Z
DTEND:20130923T084500Z
LAST-MODIFIED:20161224T191404Z
LOCATION:London &amp; Partners, 2 More London Riverside, London, SE1 2RR
SUMMARY:Going Global: Doing Business in Brazil Breakfast
URL:https://www.urbanonetwork.co.uk/london-networking-events/302/2013/09/23/going-global-doing-business-in-brazil-breakfast
DESCRIPTION:
END:VEVENT
END:VCALENDAR