BEGIN:VCALENDAR
VERSION:2.0
PRODID:-//Urbanonetwork//NONSGML v1.0//EN
METHOD:PUBLISH
BEGIN:VEVENT
UID:urbanonetwork-event-320
DTSTAMP:20131001T071000Z
ORGANIZER;CN=Tom Jeffes:MAILTO:t.jeffes@leytonorient.net
STATUS:CONFIRMED
DTSTART:20131001T071000Z
DTEND:20131001T091000Z
LAST-MODIFIED:20161224T191404Z
LOCATION:Leyton Orient Football Club, Matchroom Stadium, Leyton, E10 5NF
SUMMARY:Orient Business Launch Event with Barry Hearn
URL:https://www.urbanonetwork.co.uk/london-networking-events/320/2013/10/01/orient-business-launch-event-with-barry-hearn
DESCRIPTION:Leyton Orient is delighted to announce the launch our very own&amp;nbsp;FREE to join&amp;nbsp;business club known as &amp;lsquo;Orient Business&amp;rsquo;. 
END:VEVENT
END:VCALENDAR