BEGIN:VCALENDAR
VERSION:2.0
PRODID:-//Urbanonetwork//NONSGML v1.0//EN
METHOD:PUBLISH
BEGIN:VEVENT
UID:urbanonetwork-event-328
DTSTAMP:20130911T093000Z
ORGANIZER;CN=Lee Manning:MAILTO:lee.manning@raffingers-stuart.co.uk
STATUS:CONFIRMED
DTSTART:20130911T093000Z
DTEND:20130911T113000Z
LAST-MODIFIED:20161224T191404Z
LOCATION:Abridge Golf &amp; Country Club, Epping Lane, Stapleford Tawney, RM4 1ST
SUMMARY:Raffingers Stuart Annual Charity Golf Day -
URL:https://www.urbanonetwork.co.uk/london-networking-events/328/2013/09/11/raffingers-stuart-annual-charity-golf-day
DESCRIPTION:We are delighted to invite you to our annual Charity Golf Day at the picturesque Abridge Golf &amp;amp; Country Club. &amp;nbsp;This quality golf course is home to some of the major amateur golf tournaments including the South East Regional Open Qualifier. &amp;nbsp;
END:VEVENT
END:VCALENDAR