BEGIN:VCALENDAR
VERSION:2.0
PRODID:-//Urbanonetwork//NONSGML v1.0//EN
METHOD:PUBLISH
BEGIN:VEVENT
UID:urbanonetwork-event-337
DTSTAMP:20130911T105900Z
ORGANIZER;CN=Amanda Cassidy:MAILTO:amandacassidy@returntoglory.co.uk
STATUS:CONFIRMED
DTSTART:20130911T105900Z
DTEND:20130911T125900Z
LAST-MODIFIED:20161224T191404Z
LOCATION:The Sanctuary Spa, 12 Floral Street, London, WC2E 9DH
SUMMARY:Weekday Spa Day &amp; Free 55 Minute Treatment - Two Day Sale
URL:https://www.urbanonetwork.co.uk/london-networking-events/337/2013/09/11/weekday-spa-day-free-55-minute-treatment-two-day-sale
DESCRIPTION:Check out our amazing offer below- full details and TnCs on the link.
END:VEVENT
END:VCALENDAR