BEGIN:VCALENDAR
VERSION:2.0
PRODID:-//Urbanonetwork//NONSGML v1.0//EN
METHOD:PUBLISH
BEGIN:VEVENT
UID:urbanonetwork-event-340
DTSTAMP:20131001T081600Z
ORGANIZER;CN=Roma Felstein:MAILTO:info@safeandsound.uk.net
STATUS:CONFIRMED
DTSTART:20131001T081600Z
DTEND:20131001T101600Z
LAST-MODIFIED:20161224T191404Z
LOCATION:The Learning Tree, 24 Eversholt Street, London, NW1 1AD
SUMMARY:1 Day Emergency First Aid &amp; 3 Day FAW
URL:https://www.urbanonetwork.co.uk/london-networking-events/340/2013/10/01/1-day-emergency-first-aid-3-day-faw
DESCRIPTION:First Aid&amp;nbsp;might be the most important skill you will learn.
END:VEVENT
END:VCALENDAR