BEGIN:VCALENDAR
VERSION:2.0
PRODID:-//Urbanonetwork//NONSGML v1.0//EN
METHOD:PUBLISH
BEGIN:VEVENT
UID:urbanonetwork-event-35
DTSTAMP:20111013T170000Z
ORGANIZER;CN=Mark Herring:MAILTO:mark@urbanonetwork.co.uk
STATUS:CONFIRMED
DTSTART:20111013T170000Z
DTEND:20111013T190000Z
LAST-MODIFIED:20161224T191403Z
LOCATION:The View Studios at Altitude London, Millbank Tower, London, SW1P 4QP
SUMMARY:Urbano networking evening
URL:https://www.urbanonetwork.co.uk/london-networking-events/35/2011/10/13/urbano-networking-evening
DESCRIPTION:Join Urbano for our October networking evening which takes place at The View, part of Altitude 360, winner of London&#039;s Best Club &amp; Bar Award, overlooking the Thames at Millbank.
END:VEVENT
END:VCALENDAR