BEGIN:VCALENDAR
VERSION:2.0
PRODID:-//Urbanonetwork//NONSGML v1.0//EN
METHOD:PUBLISH
BEGIN:VEVENT
UID:urbanonetwork-event-364
DTSTAMP:20140212T180000Z
ORGANIZER;CN=Stephanie Osman:MAILTO:Stephanie.Osman@fdscfs.com
STATUS:CONFIRMED
DTSTART:20140212T180000Z
DTEND:20140212T200000Z
LAST-MODIFIED:20161224T191404Z
LOCATION:Marriott Harrison, 11 Staple Inn, London, WC1V 7QH
SUMMARY:Grooming Your Business For Sale
URL:https://www.urbanonetwork.co.uk/london-networking-events/364/2014/02/12/grooming-your-business-for-sale
DESCRIPTION:Grooming Your Business For Sale - How To Sell Your Business
END:VEVENT
END:VCALENDAR