BEGIN:VCALENDAR
VERSION:2.0
PRODID:-//Urbanonetwork//NONSGML v1.0//EN
METHOD:PUBLISH
BEGIN:VEVENT
UID:urbanonetwork-event-371
DTSTAMP:20140116T073000Z
ORGANIZER;CN=Tom Jeffes:MAILTO:t.jeffes@leytonorient.net
STATUS:CONFIRMED
DTSTART:20140116T073000Z
DTEND:20140116T093000Z
LAST-MODIFIED:20161224T191404Z
LOCATION:Leyton Orient Football Club, Matchroom Stadium, Leyton, E10 5NF
SUMMARY:Orient Business January Breakfast with Colin McMillan
URL:https://www.urbanonetwork.co.uk/member-events/leyton-orient-fc/371/2014/01/16/orient-business-january-breakfast-with-colin-mcmillan
DESCRIPTION:As Orient Business goes from strength to strength, we are delighted to announce the next breakfast event at the Matchroom Stadium on Thursday 16th January.
END:VEVENT
END:VCALENDAR