BEGIN:VCALENDAR
VERSION:2.0
PRODID:-//Urbanonetwork//NONSGML v1.0//EN
METHOD:PUBLISH
BEGIN:VEVENT
UID:urbanonetwork-event-376
DTSTAMP:20141112T093000Z
ORGANIZER;CN=Andre Lecointe-Gayle:MAILTO:andre.lecointe@gmail.com
STATUS:CONFIRMED
DTSTART:20141112T093000Z
DTEND:20141112T113000Z
LAST-MODIFIED:20161224T191404Z
LOCATION:The Work Foundation, 21 Palmer Street, London, SW1H 0AD
SUMMARY:Business Model Tools for Creative and Digital SMEs
URL:https://www.urbanonetwork.co.uk/london-networking-events/376/2014/11/12/business-model-tools-for-creative-and-digital-smes
DESCRIPTION:Lancaster University Management School and London Creative and Digital Fusion presents
END:VEVENT
END:VCALENDAR