BEGIN:VCALENDAR
VERSION:2.0
PRODID:-//Urbanonetwork//NONSGML v1.0//EN
METHOD:PUBLISH
BEGIN:VEVENT
UID:urbanonetwork-event-387
DTSTAMP:20140609T170000Z
ORGANIZER;CN=Simon Ellinas:MAILTO:simon@caricatures.org.uk
STATUS:CONFIRMED
DTSTART:20140609T170000Z
DTEND:20140609T190000Z
LAST-MODIFIED:20161224T191404Z
LOCATION:The Crown, 51 New Oxford Street, London, WC1A 1BL
SUMMARY:The Harpo Club!
URL:https://www.urbanonetwork.co.uk/london-networking-events/387/2014/06/09/the-harpo-club
DESCRIPTION:Please come to The Harpo Club! Bring a friend.&amp;nbsp;
END:VEVENT
END:VCALENDAR