BEGIN:VCALENDAR
VERSION:2.0
PRODID:-//Urbanonetwork//NONSGML v1.0//EN
METHOD:PUBLISH
BEGIN:VEVENT
UID:urbanonetwork-event-395
DTSTAMP:20140424T160000Z
ORGANIZER;CN=Kim  Allingham:MAILTO:kim.allingham@aspira-consulting.com
STATUS:CONFIRMED
DTSTART:20140424T160000Z
DTEND:20140424T180000Z
LAST-MODIFIED:20161224T191404Z
LOCATION:Central London, TBC, TBC, TBC
SUMMARY:Social Media Master Class
URL:https://www.urbanonetwork.co.uk/london-networking-events/395/2014/04/24/social-media-master-class
DESCRIPTION:Join&amp;nbsp;Influence Agents Founder, Matt Hodkinson for an evening of&amp;nbsp;DOING!
END:VEVENT
END:VCALENDAR