BEGIN:VCALENDAR
VERSION:2.0
PRODID:-//Urbanonetwork//NONSGML v1.0//EN
METHOD:PUBLISH
BEGIN:VEVENT
UID:urbanonetwork-event-396
DTSTAMP:20140228T170000Z
ORGANIZER;CN=Zoe  Spoor:MAILTO:zoespoor@beatone.co.uk
STATUS:CONFIRMED
DTSTART:20140228T170000Z
DTEND:20140228T190000Z
LAST-MODIFIED:20161224T191404Z
LOCATION:Jewel Covent Garden, 29-30 Maiden Lane, London, WC2E 7JS
SUMMARY:Jewel Covent Garden presents Candy Land
URL:https://www.urbanonetwork.co.uk/london-networking-events/396/2014/02/28/jewel-covent-garden-presents-candy-land
DESCRIPTION:CANDY LAND
END:VEVENT
END:VCALENDAR