BEGIN:VCALENDAR
VERSION:2.0
PRODID:-//Urbanonetwork//NONSGML v1.0//EN
METHOD:PUBLISH
BEGIN:VEVENT
UID:urbanonetwork-event-404
DTSTAMP:20140306T093000Z
ORGANIZER;CN=Kim  Allingham:MAILTO:kim.allingham@aspira-consulting.com
STATUS:CONFIRMED
DTSTART:20140306T093000Z
DTEND:20140306T113000Z
LAST-MODIFIED:20161224T191404Z
LOCATION:Aspira Training Room, 72 Wells Street, London, W1T3QF
SUMMARY:Financial Markets Training Course
URL:https://www.urbanonetwork.co.uk/london-networking-events/404/2014/03/06/financial-markets-training-course
DESCRIPTION:Want to understand more about financial markets, break through the jargon and feel more confident with understanding regulations and trading?
END:VEVENT
END:VCALENDAR