BEGIN:VCALENDAR
VERSION:2.0
PRODID:-//Urbanonetwork//NONSGML v1.0//EN
METHOD:PUBLISH
BEGIN:VEVENT
UID:urbanonetwork-event-420
DTSTAMP:20140425T050000Z
ORGANIZER;CN=Sophie Shrubsole:MAILTO:s.shrubsole@westminsterbc.org.uk
STATUS:CONFIRMED
DTSTART:20140425T050000Z
DTEND:20140425T070000Z
LAST-MODIFIED:20161224T191404Z
LOCATION:Western Front battlefields, Ypres, Belgium, Ypres, 8900
SUMMARY:WBC First World War Centenary Trip to Ypres, Belgium
URL:https://www.urbanonetwork.co.uk/london-networking-events/420/2014/04/25/wbc-first-world-war-centenary-trip-to-ypres-belgium
DESCRIPTION:This year marks 100 years since the beginning of the First World War, a war that claimed the lives of nearly a million men from Britain and her Empire. &amp;nbsp;WBC will be making a day trip to the battlefields of the Somme, France, to pay our respects to al
END:VEVENT
END:VCALENDAR