BEGIN:VCALENDAR
VERSION:2.0
PRODID:-//Urbanonetwork//NONSGML v1.0//EN
METHOD:PUBLISH
BEGIN:VEVENT
UID:urbanonetwork-event-427
DTSTAMP:20140328T170000Z
ORGANIZER;CN=Zoe  Spoor:MAILTO:zoespoor@beatone.co.uk
STATUS:CONFIRMED
DTSTART:20140328T170000Z
DTEND:20140328T190000Z
LAST-MODIFIED:20161224T191404Z
LOCATION:Jewel Covent Garden, 29-30 Maiden Lane, London, WC2E 7JS
SUMMARY:Rum Jungle
URL:https://www.urbanonetwork.co.uk/london-networking-events/427/2014/03/28/rum-jungle
DESCRIPTION:ALOHA!&amp;nbsp;&amp;nbsp;&amp;nbsp;&amp;nbsp;&amp;nbsp;&amp;nbsp;&amp;nbsp;&amp;nbsp;&amp;nbsp;&amp;nbsp;&amp;nbsp;&amp;nbsp;&amp;nbsp;&amp;nbsp;&amp;nbsp;&amp;nbsp;&amp;nbsp;&amp;nbsp;&amp;nbsp;&amp;nbsp;&amp;nbsp;&amp;nbsp;&amp;nbsp;&amp;nbsp;&amp;nbsp;&amp;nbsp;&amp;nbsp;&amp;nbsp;&amp;nbsp;&amp;nbsp;&amp;nbsp;&amp;nbsp;&amp;nbsp;&amp;nbsp;&amp;nbsp;&amp;nbsp;&amp;nbsp;&amp;nbsp;&amp;nbsp;&amp;nbsp;&amp;nbsp;&amp;nb
END:VEVENT
END:VCALENDAR