BEGIN:VCALENDAR
VERSION:2.0
PRODID:-//Urbanonetwork//NONSGML v1.0//EN
METHOD:PUBLISH
BEGIN:VEVENT
UID:urbanonetwork-event-462
DTSTAMP:20140612T073000Z
ORGANIZER;CN=Kayley Hackshaw:MAILTO:kayley.hackshaw@wsm.co.uk
STATUS:CONFIRMED
DTSTART:20140612T073000Z
DTEND:20140612T093000Z
LAST-MODIFIED:20161224T191405Z
LOCATION:Cobham Rugby Club, Cobham, Cobham Rugby Club, Cobham, KT11 2BU
SUMMARY:Intellectual Property Seminar
URL:https://www.urbanonetwork.co.uk/london-networking-events/462/2014/06/12/intellectual-property-seminar
DESCRIPTION:You are invited to&amp;nbsp;WSM&amp;nbsp;and&amp;nbsp;Mundays&#039;&amp;nbsp;third interactive business workshop on 12th June 2014. This workshop will focus on intellectual property; and consists of a panel featuring speakers from both companies discussing their fields of&amp;nbs
END:VEVENT
END:VCALENDAR