BEGIN:VCALENDAR
VERSION:2.0
PRODID:-//Urbanonetwork//NONSGML v1.0//EN
METHOD:PUBLISH
BEGIN:VEVENT
UID:urbanonetwork-event-464
DTSTAMP:20140530T160000Z
ORGANIZER;CN=Zoe  Spoor:MAILTO:zoespoor@beatone.co.uk
STATUS:CONFIRMED
DTSTART:20140530T160000Z
DTEND:20140530T180000Z
LAST-MODIFIED:20161224T191405Z
LOCATION:Amber Bar, City Point, London, EC2Y 9AW
SUMMARY:Hawaiian Party @ Amber
URL:https://www.urbanonetwork.co.uk/london-networking-events/464/2014/05/30/hawaiian-party-amber
DESCRIPTION:
END:VEVENT
END:VCALENDAR