BEGIN:VCALENDAR
VERSION:2.0
PRODID:-//Urbanonetwork//NONSGML v1.0//EN
METHOD:PUBLISH
BEGIN:VEVENT
UID:urbanonetwork-event-473
DTSTAMP:20140708T170000Z
ORGANIZER;CN=Jennifer McLaren:MAILTO:jenny@angelnews.co.uk
STATUS:CONFIRMED
DTSTART:20140708T170000Z
DTEND:20140708T190000Z
LAST-MODIFIED:20161224T191405Z
LOCATION:Nabarro LLP, Lacon House, London, WC1X 8RW
SUMMARY:London Pitching for Management event
URL:https://www.urbanonetwork.co.uk/london-networking-events/473/2014/07/08/london-pitching-for-management-event
DESCRIPTION:Please join us for our 2014 flagship Pitching for Management&amp;trade;&amp;nbsp;event&amp;nbsp;in London on 8th July 2014 at&amp;nbsp;6.00pm to 9.30pm at the offices of Nabarro LLP.
END:VEVENT
END:VCALENDAR