BEGIN:VCALENDAR
VERSION:2.0
PRODID:-//Urbanonetwork//NONSGML v1.0//EN
METHOD:PUBLISH
BEGIN:VEVENT
UID:urbanonetwork-event-495
DTSTAMP:20140820T083000Z
ORGANIZER;CN=Alice Cox:MAILTO:alice.cox@aspira-consulting.com
STATUS:CONFIRMED
DTSTART:20140820T083000Z
DTEND:20140820T103000Z
LAST-MODIFIED:20161224T191405Z
LOCATION:Aspira Consulting, Floor 1, 72 Wells Street, London, W1T3QF
SUMMARY:Financial Skills for Executive Assistants Training course
URL:https://www.urbanonetwork.co.uk/london-networking-events/495/2014/08/20/financial-skills-for-executive-assistants-training-course
DESCRIPTION:Due to popular demand we have scheduled another Financial Skills for Executive Assistants Training course. It will be held on Wednesday 20th August 2014, just off Oxford Street and I was wondering if you or a colleague would be interested in attending, as
END:VEVENT
END:VCALENDAR